Package: epivizrStandalone Version: 1.34.0 Command: /home/biocbuild/R/R/bin/R CMD INSTALL epivizrStandalone StartedAt: 2025-03-31 20:43:52 -0000 (Mon, 31 Mar 2025) EndedAt: 2025-03-31 20:44:45 -0000 (Mon, 31 Mar 2025) EllapsedTime: 52.8 seconds RetCode: 0 Status: OK