Package: epivizrServer Version: 1.34.0 Command: /Library/Frameworks/R.framework/Resources/bin/R CMD build --keep-empty-dirs --no-resave-data epivizrServer StartedAt: 2025-03-31 18:35:47 -0400 (Mon, 31 Mar 2025) EndedAt: 2025-03-31 18:36:01 -0400 (Mon, 31 Mar 2025) EllapsedTime: 14.7 seconds RetCode: 0 Status: OK PackageFile: epivizrServer_1.34.0.tar.gz PackageFileSize: 229.9 KiB