Package: epivizrData Version: 1.34.0 Command: /home/biocbuild/R/R/bin/R CMD INSTALL epivizrData StartedAt: 2025-03-31 20:41:10 -0000 (Mon, 31 Mar 2025) EndedAt: 2025-03-31 20:42:05 -0000 (Mon, 31 Mar 2025) EllapsedTime: 54.8 seconds RetCode: 0 Status: OK