Package: epivizrData Version: 1.34.0 Command: /home/biocbuild/R/R/bin/R CMD build --keep-empty-dirs --no-resave-data epivizrData StartedAt: 2025-03-31 23:22:16 -0000 (Mon, 31 Mar 2025) EndedAt: 2025-03-31 23:23:28 -0000 (Mon, 31 Mar 2025) EllapsedTime: 72.0 seconds RetCode: 0 Status: OK PackageFile: epivizrData_1.34.0.tar.gz PackageFileSize: 269.9 KiB