Package: epivizrData Version: 1.34.0 Command: /Library/Frameworks/R.framework/Resources/bin/R CMD build --keep-empty-dirs --no-resave-data epivizrData StartedAt: 2025-03-31 18:35:32 -0400 (Mon, 31 Mar 2025) EndedAt: 2025-03-31 18:37:30 -0400 (Mon, 31 Mar 2025) EllapsedTime: 118.6 seconds RetCode: 0 Status: OK PackageFile: epivizrData_1.34.0.tar.gz PackageFileSize: 243.3 KiB