Package: epiregulon Version: 1.2.0 Command: /home/biocbuild/R/R/bin/R CMD INSTALL epiregulon StartedAt: 2025-03-31 21:04:46 -0000 (Mon, 31 Mar 2025) EndedAt: 2025-03-31 21:05:40 -0000 (Mon, 31 Mar 2025) EllapsedTime: 53.9 seconds RetCode: 0 Status: OK