Package: epiregulon.extra Version: 1.2.4 Command: chmod a+r epiregulon.extra -R && F:\biocbuild\bbs-3.20-bioc\R\bin\R.exe CMD build --keep-empty-dirs --no-resave-data epiregulon.extra StartedAt: 2025-03-31 18:43:47 -0400 (Mon, 31 Mar 2025) EndedAt: 2025-03-31 18:55:40 -0400 (Mon, 31 Mar 2025) EllapsedTime: 713.5 seconds RetCode: 0 Status: OK PackageFile: epiregulon.extra_1.2.4.tar.gz PackageFileSize: 2.001 MiB