Package: epiregulon.extra Version: 1.2.4 Command: /Library/Frameworks/R.framework/Resources/bin/R CMD build --keep-empty-dirs --no-resave-data epiregulon.extra StartedAt: 2025-03-31 23:13:07 -0400 (Mon, 31 Mar 2025) EndedAt: 2025-03-31 23:19:28 -0400 (Mon, 31 Mar 2025) EllapsedTime: 380.5 seconds RetCode: 0 Status: OK PackageFile: epiregulon.extra_1.2.4.tar.gz PackageFileSize: 2.313 MiB