Package: epimutacions Version: 1.10.0 Command: /Library/Frameworks/R.framework/Resources/bin/R CMD INSTALL epimutacions StartedAt: 2025-03-31 16:33:53 -0400 (Mon, 31 Mar 2025) EndedAt: 2025-03-31 16:35:33 -0400 (Mon, 31 Mar 2025) EllapsedTime: 99.8 seconds RetCode: 0 Status: OK