Package: epigraHMM Version: 1.14.0 Command: /Library/Frameworks/R.framework/Resources/bin/R CMD check --install=check:epigraHMM.install-out.txt --library=/Library/Frameworks/R.framework/Resources/library --no-vignettes --timings epigraHMM_1.14.0.tar.gz StartedAt: 2025-04-01 02:38:29 -0400 (Tue, 01 Apr 2025) EndedAt: 2025-04-01 02:53:14 -0400 (Tue, 01 Apr 2025) EllapsedTime: 885.8 seconds RetCode: 0 Status: WARNINGS CheckDir: epigraHMM.Rcheck Warnings: 1