Package: epigraHMM Version: 1.14.0 Command: /Library/Frameworks/R.framework/Resources/bin/R CMD INSTALL epigraHMM StartedAt: 2025-03-31 18:11:26 -0400 (Mon, 31 Mar 2025) EndedAt: 2025-03-31 18:13:25 -0400 (Mon, 31 Mar 2025) EllapsedTime: 119.0 seconds RetCode: 0 Status: OK