Package: epialleleR Version: 1.14.0 Command: chmod a+r epialleleR -R && F:\biocbuild\bbs-3.20-bioc\R\bin\R.exe CMD build --keep-empty-dirs --no-resave-data epialleleR StartedAt: 2025-03-31 18:41:04 -0400 (Mon, 31 Mar 2025) EndedAt: 2025-03-31 18:46:48 -0400 (Mon, 31 Mar 2025) EllapsedTime: 344.4 seconds RetCode: 0 Status: OK PackageFile: epialleleR_1.14.0.tar.gz PackageFileSize: 2.366 MiB