Package: epialleleR Version: 1.14.0 Command: rm -rf epialleleR.buildbin-libdir && mkdir epialleleR.buildbin-libdir && F:\biocbuild\bbs-3.20-bioc\R\bin\R.exe CMD INSTALL --build --library=epialleleR.buildbin-libdir epialleleR_1.14.0.tar.gz StartedAt: 2025-04-01 08:08:51 -0400 (Tue, 01 Apr 2025) EndedAt: 2025-04-01 08:10:37 -0400 (Tue, 01 Apr 2025) EllapsedTime: 105.4 seconds RetCode: 0 Status: OK PackageFile: epialleleR_1.14.0.zip PackageFileSize: 7.414 MiB