Package: epiNEM Version: 1.30.0 Command: /Library/Frameworks/R.framework/Resources/bin/R CMD INSTALL epiNEM StartedAt: 2025-03-31 16:31:20 -0400 (Mon, 31 Mar 2025) EndedAt: 2025-03-31 16:31:59 -0400 (Mon, 31 Mar 2025) EllapsedTime: 38.9 seconds RetCode: 0 Status: OK