Package: epiNEM Version: 1.30.0 Command: /Library/Frameworks/R.framework/Resources/bin/R CMD check --install=check:epiNEM.install-out.txt --library=/Library/Frameworks/R.framework/Resources/library --no-vignettes --timings epiNEM_1.30.0.tar.gz StartedAt: 2025-04-01 02:40:00 -0400 (Tue, 01 Apr 2025) EndedAt: 2025-04-01 02:46:03 -0400 (Tue, 01 Apr 2025) EllapsedTime: 362.9 seconds RetCode: 0 Status: OK CheckDir: epiNEM.Rcheck Warnings: 0