Package: epiNEM Version: 1.30.0 Command: /Library/Frameworks/R.framework/Resources/bin/R CMD build --keep-empty-dirs --no-resave-data epiNEM StartedAt: 2025-03-31 18:33:08 -0400 (Mon, 31 Mar 2025) EndedAt: 2025-03-31 18:35:12 -0400 (Mon, 31 Mar 2025) EllapsedTime: 123.4 seconds RetCode: 0 Status: OK PackageFile: epiNEM_1.30.0.tar.gz PackageFileSize: 2.407 MiB