Package: ensembldb Version: 2.30.0 Command: /home/biocbuild/R/R/bin/R CMD INSTALL ensembldb StartedAt: 2025-03-31 20:30:52 -0000 (Mon, 31 Mar 2025) EndedAt: 2025-03-31 20:31:44 -0000 (Mon, 31 Mar 2025) EllapsedTime: 52.5 seconds RetCode: 0 Status: OK