Package: enrichplot Version: 1.26.6 Command: chmod a+r enrichplot -R && F:\biocbuild\bbs-3.20-bioc\R\bin\R.exe CMD build --keep-empty-dirs --no-resave-data enrichplot StartedAt: 2025-03-31 18:40:14 -0400 (Mon, 31 Mar 2025) EndedAt: 2025-03-31 18:40:49 -0400 (Mon, 31 Mar 2025) EllapsedTime: 35.5 seconds RetCode: 0 Status: OK PackageFile: enrichplot_1.26.6.tar.gz PackageFileSize: 98.7 KiB