Package: enrichplot Version: 1.26.6 Command: /Library/Frameworks/R.framework/Resources/bin/R CMD build --keep-empty-dirs --no-resave-data enrichplot StartedAt: 2025-03-31 18:31:11 -0400 (Mon, 31 Mar 2025) EndedAt: 2025-03-31 18:32:01 -0400 (Mon, 31 Mar 2025) EllapsedTime: 49.8 seconds RetCode: 0 Status: OK PackageFile: enrichplot_1.26.6.tar.gz PackageFileSize: 98.71 KiB