Package: enrichViewNet Version: 1.4.0 Command: /home/biocbuild/R/R/bin/R CMD INSTALL enrichViewNet StartedAt: 2025-03-31 20:58:42 -0000 (Mon, 31 Mar 2025) EndedAt: 2025-03-31 20:59:14 -0000 (Mon, 31 Mar 2025) EllapsedTime: 31.8 seconds RetCode: 0 Status: OK