Package: enrichViewNet Version: 1.4.0 Command: /home/biocbuild/R/R/bin/R CMD build --keep-empty-dirs --no-resave-data enrichViewNet StartedAt: 2025-03-31 23:17:14 -0000 (Mon, 31 Mar 2025) EndedAt: 2025-03-31 23:18:31 -0000 (Mon, 31 Mar 2025) EllapsedTime: 77.1 seconds RetCode: 0 Status: OK PackageFile: enrichViewNet_1.4.0.tar.gz PackageFileSize: 3.467 MiB