Package: enrichViewNet Version: 1.4.0 Command: chmod a+r enrichViewNet -R && F:\biocbuild\bbs-3.20-bioc\R\bin\R.exe CMD build --keep-empty-dirs --no-resave-data enrichViewNet StartedAt: 2025-03-31 18:40:39 -0400 (Mon, 31 Mar 2025) EndedAt: 2025-03-31 18:41:53 -0400 (Mon, 31 Mar 2025) EllapsedTime: 73.6 seconds RetCode: 0 Status: OK PackageFile: enrichViewNet_1.4.0.tar.gz PackageFileSize: 3.402 MiB