Package: enhancerHomologSearch Version: 1.12.0 Command: /home/biocbuild/R/R/bin/R CMD check --install=check:enhancerHomologSearch.install-out.txt --library=/home/biocbuild/R/R/site-library --no-vignettes --timings enhancerHomologSearch_1.12.0.tar.gz StartedAt: 2025-04-01 06:10:55 -0000 (Tue, 01 Apr 2025) EndedAt: 2025-04-01 06:25:22 -0000 (Tue, 01 Apr 2025) EllapsedTime: 866.8 seconds RetCode: 0 Status: OK CheckDir: enhancerHomologSearch.Rcheck Warnings: 0