Package: enhancerHomologSearch Version: 1.12.0 Command: /home/biocbuild/bbs-3.20-bioc/R/bin/R CMD INSTALL enhancerHomologSearch StartedAt: 2025-03-31 15:28:43 -0400 (Mon, 31 Mar 2025) EndedAt: 2025-03-31 15:33:13 -0400 (Mon, 31 Mar 2025) EllapsedTime: 270.2 seconds RetCode: 0 Status: OK