Package: enhancerHomologSearch Version: 1.12.0 Command: /Library/Frameworks/R.framework/Resources/bin/R CMD INSTALL enhancerHomologSearch StartedAt: 2025-03-31 16:11:52 -0400 (Mon, 31 Mar 2025) EndedAt: 2025-03-31 16:16:41 -0400 (Mon, 31 Mar 2025) EllapsedTime: 288.9 seconds RetCode: 0 Status: OK