Package: eisaR Version: 1.18.0 Command: /home/biocbuild/R/R/bin/R CMD check --install=check:eisaR.install-out.txt --library=/home/biocbuild/R/R/site-library --no-vignettes --timings eisaR_1.18.0.tar.gz StartedAt: 2025-04-01 06:09:33 -0000 (Tue, 01 Apr 2025) EndedAt: 2025-04-01 06:14:17 -0000 (Tue, 01 Apr 2025) EllapsedTime: 284.4 seconds RetCode: 0 Status: OK CheckDir: eisaR.Rcheck Warnings: 0