Package: eiR Version: 1.46.0 Command: /Library/Frameworks/R.framework/Resources/bin/R CMD build --keep-empty-dirs --no-resave-data eiR StartedAt: 2025-03-31 22:58:34 -0400 (Mon, 31 Mar 2025) EndedAt: 2025-03-31 22:58:59 -0400 (Mon, 31 Mar 2025) EllapsedTime: 25.0 seconds RetCode: 0 Status: OK PackageFile: eiR_1.46.0.tar.gz PackageFileSize: 452.3 KiB