Package: eds Version: 1.8.0 Command: /home/biocbuild/bbs-3.20-bioc/R/bin/R CMD build --keep-empty-dirs --no-resave-data --md5 eds StartedAt: 2025-03-31 17:07:38 -0400 (Mon, 31 Mar 2025) EndedAt: 2025-03-31 17:07:51 -0400 (Mon, 31 Mar 2025) EllapsedTime: 13.0 seconds RetCode: 0 Status: OK PackageFile: eds_1.8.0.tar.gz PackageFileSize: 217.9 KiB