Package: eds Version: 1.8.0 Command: rm -rf eds.buildbin-libdir && mkdir eds.buildbin-libdir && /Users/biocbuild/BBS/utils/build-universal.sh eds_1.8.0.tar.gz /Library/Frameworks/R.framework/Resources/bin/R eds.buildbin-libdir StartedAt: 2025-04-01 11:49:16 -0400 (Tue, 01 Apr 2025) EndedAt: 2025-04-01 11:49:41 -0400 (Tue, 01 Apr 2025) EllapsedTime: 25.1 seconds RetCode: 0 Status: OK PackageFile: eds_1.8.0.tgz PackageFileSize: 257.9 KiB