Package: eds Version: 1.8.0 Command: /Library/Frameworks/R.framework/Resources/bin/R CMD build --keep-empty-dirs --no-resave-data eds StartedAt: 2025-03-31 22:58:09 -0400 (Mon, 31 Mar 2025) EndedAt: 2025-03-31 22:58:25 -0400 (Mon, 31 Mar 2025) EllapsedTime: 15.9 seconds RetCode: 0 Status: OK PackageFile: eds_1.8.0.tar.gz PackageFileSize: 217.5 KiB