Package: edgeR Version: 4.4.2 Command: /home/biocbuild/R/R/bin/R CMD check --install=check:edgeR.install-out.txt --library=/home/biocbuild/R/R/site-library --no-vignettes --timings edgeR_4.4.2.tar.gz StartedAt: 2025-04-01 06:08:24 -0000 (Tue, 01 Apr 2025) EndedAt: 2025-04-01 06:09:59 -0000 (Tue, 01 Apr 2025) EllapsedTime: 95.2 seconds RetCode: 0 Status: OK CheckDir: edgeR.Rcheck Warnings: 0