Package: edgeR Version: 4.4.2 Command: /home/biocbuild/bbs-3.20-bioc/R/bin/R CMD INSTALL edgeR StartedAt: 2025-03-31 15:11:59 -0400 (Mon, 31 Mar 2025) EndedAt: 2025-03-31 15:12:20 -0400 (Mon, 31 Mar 2025) EllapsedTime: 21.3 seconds RetCode: 0 Status: OK