Package: edgeR Version: 4.4.2 Command: rm -rf edgeR.buildbin-libdir && mkdir edgeR.buildbin-libdir && /Users/biocbuild/BBS/utils/build-universal.sh edgeR_4.4.2.tar.gz /Library/Frameworks/R.framework/Resources/bin/R edgeR.buildbin-libdir StartedAt: 2025-04-01 11:49:07 -0400 (Tue, 01 Apr 2025) EndedAt: 2025-04-01 11:49:43 -0400 (Tue, 01 Apr 2025) EllapsedTime: 36.0 seconds RetCode: 0 Status: OK PackageFile: edgeR_4.4.2.tgz PackageFileSize: 2.688 MiB