Package: edgeR Version: 4.4.2 Command: /Library/Frameworks/R.framework/Resources/bin/R CMD check --install=check:edgeR.install-out.txt --library=/Library/Frameworks/R.framework/Resources/library --no-vignettes --timings edgeR_4.4.2.tar.gz StartedAt: 2025-04-01 18:05:15 -0400 (Tue, 01 Apr 2025) EndedAt: 2025-04-01 18:06:37 -0400 (Tue, 01 Apr 2025) EllapsedTime: 81.9 seconds RetCode: 0 Status: OK CheckDir: edgeR.Rcheck Warnings: 0