Package: edgeR Version: 4.4.2 Command: /Library/Frameworks/R.framework/Resources/bin/R CMD build --keep-empty-dirs --no-resave-data edgeR StartedAt: 2025-03-31 22:58:04 -0400 (Mon, 31 Mar 2025) EndedAt: 2025-03-31 22:58:34 -0400 (Mon, 31 Mar 2025) EllapsedTime: 29.6 seconds RetCode: 0 Status: OK PackageFile: edgeR_4.4.2.tar.gz PackageFileSize: 3.281 MiB