Package: edge Version: 2.38.0 Command: /home/biocbuild/R/R/bin/R CMD INSTALL edge StartedAt: 2025-03-31 20:54:09 -0000 (Mon, 31 Mar 2025) EndedAt: 2025-03-31 20:54:40 -0000 (Mon, 31 Mar 2025) EllapsedTime: 31.8 seconds RetCode: 0 Status: OK