Package: edge Version: 2.38.0 Command: /home/biocbuild/R/R/bin/R CMD build --keep-empty-dirs --no-resave-data edge StartedAt: 2025-03-31 23:13:58 -0000 (Mon, 31 Mar 2025) EndedAt: 2025-03-31 23:15:09 -0000 (Mon, 31 Mar 2025) EllapsedTime: 71.0 seconds RetCode: 0 Status: OK PackageFile: edge_2.38.0.tar.gz PackageFileSize: 998.4 KiB