Package: easylift Version: 1.4.0 Command: /Library/Frameworks/R.framework/Resources/bin/R CMD INSTALL easylift StartedAt: 2025-03-31 15:59:10 -0400 (Mon, 31 Mar 2025) EndedAt: 2025-03-31 15:59:46 -0400 (Mon, 31 Mar 2025) EllapsedTime: 35.9 seconds RetCode: 0 Status: OK