Package: easylift Version: 1.4.0 Command: /Library/Frameworks/R.framework/Resources/bin/R CMD check --install=check:easylift.install-out.txt --library=/Library/Frameworks/R.framework/Resources/library --no-vignettes --timings easylift_1.4.0.tar.gz StartedAt: 2025-04-01 17:59:21 -0400 (Tue, 01 Apr 2025) EndedAt: 2025-04-01 18:03:44 -0400 (Tue, 01 Apr 2025) EllapsedTime: 262.5 seconds RetCode: 0 Status: OK CheckDir: easylift.Rcheck Warnings: 0