Package: easylift Version: 1.4.0 Command: rm -rf easylift.buildbin-libdir && mkdir easylift.buildbin-libdir && /Users/biocbuild/BBS/utils/build-universal.sh easylift_1.4.0.tar.gz /Library/Frameworks/R.framework/Resources/bin/R easylift.buildbin-libdir StartedAt: 2025-04-02 14:11:10 -0400 (Wed, 02 Apr 2025) EndedAt: 2025-04-02 14:11:51 -0400 (Wed, 02 Apr 2025) EllapsedTime: 41.0 seconds RetCode: 0 Status: OK PackageFile: easylift_1.4.0.tgz PackageFileSize: 692 KiB