Package: easyRNASeq Version: 2.42.0 Command: /home/biocbuild/R/R/bin/R CMD INSTALL easyRNASeq StartedAt: 2025-03-31 20:39:37 -0000 (Mon, 31 Mar 2025) EndedAt: 2025-03-31 20:40:37 -0000 (Mon, 31 Mar 2025) EllapsedTime: 59.4 seconds RetCode: 0 Status: OK