Package: easyRNASeq Version: 2.42.0 Command: /home/biocbuild/R/R/bin/R CMD build --keep-empty-dirs --no-resave-data easyRNASeq StartedAt: 2025-03-31 23:13:08 -0000 (Mon, 31 Mar 2025) EndedAt: 2025-03-31 23:20:31 -0000 (Mon, 31 Mar 2025) EllapsedTime: 443.2 seconds RetCode: 0 Status: OK PackageFile: easyRNASeq_2.42.0.tar.gz PackageFileSize: 69.57 MiB