Package: easyRNASeq Version: 2.42.0 Command: chmod a+r easyRNASeq -R && F:\biocbuild\bbs-3.20-bioc\R\bin\R.exe CMD build --keep-empty-dirs --no-resave-data easyRNASeq StartedAt: 2025-03-31 18:37:45 -0400 (Mon, 31 Mar 2025) EndedAt: 2025-03-31 18:42:58 -0400 (Mon, 31 Mar 2025) EllapsedTime: 313.1 seconds RetCode: 0 Status: OK PackageFile: easyRNASeq_2.42.0.tar.gz PackageFileSize: 69.47 MiB