Package: easyRNASeq Version: 2.42.0 Command: /Library/Frameworks/R.framework/Resources/bin/R CMD check --install=check:easyRNASeq.install-out.txt --library=/Library/Frameworks/R.framework/Resources/library --no-vignettes --timings easyRNASeq_2.42.0.tar.gz StartedAt: 2025-04-01 18:00:30 -0400 (Tue, 01 Apr 2025) EndedAt: 2025-04-01 18:13:38 -0400 (Tue, 01 Apr 2025) EllapsedTime: 788.0 seconds RetCode: 1 Status: ERROR CheckDir: easyRNASeq.Rcheck Warnings: NA