Package: easier Version: 1.12.0 Command: /home/biocbuild/R/R/bin/R CMD INSTALL easier StartedAt: 2025-03-31 21:10:04 -0000 (Mon, 31 Mar 2025) EndedAt: 2025-03-31 21:10:45 -0000 (Mon, 31 Mar 2025) EllapsedTime: 41.4 seconds RetCode: 0 Status: OK