Package: easier Version: 1.12.0 Command: /Library/Frameworks/R.framework/Resources/bin/R CMD check --install=check:easier.install-out.txt --library=/Library/Frameworks/R.framework/Resources/library --no-vignettes --timings easier_1.12.0.tar.gz StartedAt: 2025-04-01 02:28:09 -0400 (Tue, 01 Apr 2025) EndedAt: 2025-04-01 02:45:12 -0400 (Tue, 01 Apr 2025) EllapsedTime: 1022.9 seconds RetCode: 0 Status: OK CheckDir: easier.Rcheck Warnings: 0