Package: easier Version: 1.12.0 Command: /Library/Frameworks/R.framework/Resources/bin/R CMD build --keep-empty-dirs --no-resave-data easier StartedAt: 2025-03-31 22:51:40 -0400 (Mon, 31 Mar 2025) EndedAt: 2025-03-31 22:58:09 -0400 (Mon, 31 Mar 2025) EllapsedTime: 388.6 seconds RetCode: 0 Status: OK PackageFile: easier_1.12.0.tar.gz PackageFileSize: 3.68 MiB