Package: dupRadar Version: 1.36.0 Command: /Library/Frameworks/R.framework/Resources/bin/R CMD INSTALL dupRadar StartedAt: 2025-03-31 15:11:41 -0400 (Mon, 31 Mar 2025) EndedAt: 2025-03-31 15:11:50 -0400 (Mon, 31 Mar 2025) EllapsedTime: 9.8 seconds RetCode: 0 Status: OK