Package: dupRadar Version: 1.36.0 Command: /Library/Frameworks/R.framework/Resources/bin/R CMD build --keep-empty-dirs --no-resave-data dupRadar StartedAt: 2025-03-31 22:50:16 -0400 (Mon, 31 Mar 2025) EndedAt: 2025-03-31 22:51:01 -0400 (Mon, 31 Mar 2025) EllapsedTime: 45.5 seconds RetCode: 0 Status: OK PackageFile: dupRadar_1.36.0.tar.gz PackageFileSize: 3.865 MiB