Package: dupRadar Version: 1.36.0 Command: rm -rf dupRadar.buildbin-libdir && mkdir dupRadar.buildbin-libdir && /Users/biocbuild/BBS/utils/build-universal.sh dupRadar_1.36.0.tar.gz /Library/Frameworks/R.framework/Resources/bin/R dupRadar.buildbin-libdir StartedAt: 2025-04-02 14:11:01 -0400 (Wed, 02 Apr 2025) EndedAt: 2025-04-02 14:11:10 -0400 (Wed, 02 Apr 2025) EllapsedTime: 9.1 seconds RetCode: 0 Status: OK PackageFile: dupRadar_1.36.0.tgz PackageFileSize: 4.825 MiB